BEGIN:VCALENDAR
VERSION:2.0
PRODID:Park City, UT Calendar Creator
METHOD:PUBLISH
BEGIN:VEVENT
DTSTAMP:20221128T103328
DTSTART:20230109T150000
DTEND:20230109T160000
SUMMARY:Police Complaint Review Meeting
DESCRIPTION:Anticipated topics include OPMA Training, Electronic Meetings Rule, annual review of Policies and Procedures, elect a chair pro-tem, and Oath of Office.
X-ALT-DESC;FMTTYPE=text/html:Anticipated topics include OPMA Training, Electronic Meetings Rule, annual review of Policies and Procedures, elect a chair pro-tem, and Oath of Office.
LOCATION:Park City Police Department\, 2060 Park Avenue Park City\, Utah 84060
CLASS:PUBLIC
END:VEVENT
END:VCALENDAR
