BEGIN:VCALENDAR
VERSION:2.0
PRODID:Park City, UT Calendar Creator
METHOD:PUBLISH
BEGIN:VEVENT
DTSTAMP:20221128T161258
DTSTART:20221207T100000
DTEND:20221207T120000
SUMMARY:Cookies with the Mayor
DESCRIPTION:Parents, caregivers, and kids are invited to join Mayor Nann for cookies and conversation following <em>Baby and Me</em> and <em>Music and Movement</em> story times at the Park City Library.
X-ALT-DESC;FMTTYPE=text/html:Parents, caregivers, and kids are invited to join Mayor Nann for cookies and conversation following <em>Baby and Me</em> and <em>Music and Movement</em> story times at the Park City Library.
LOCATION:Library Community Room\, 1255 Park Avenue Park City\, Utah 84060
CLASS:PUBLIC
END:VEVENT
END:VCALENDAR
