BEGIN:VCALENDAR
VERSION:2.0
PRODID:Park City, UT Calendar Creator
METHOD:PUBLISH
BEGIN:VEVENT
DTSTAMP:20221129T115407
DTSTART:20221212T063000
DTEND:20221212T080000
SUMMARY:Richardson Flat Park and Ride Open House
DESCRIPTION:<div ltr="" scxw75982144="" bcx9"=""><p scxw75982144=""><h2 scxw75982144="">Try the new Richardson Flat Park and Ride Bus Route! Join us at our Open House&nbsp;</h2></p></div><div ltr="" scxw75982144="" bcx9"=""><p scxw75982144="">Monday, December 12 | 6:30-8:00 a.m.&nbsp;</p></div><div ltr="" scxw75982144="" bcx9"=""><p scxw75982144="">Join us to celebrate new bus service to the Richardson Flat Park and Ride! We’ll be at the Park and Ride and Park City Heights bus stops with free food, drinks, and fun giveaways.&nbsp;</p></div><br>
X-ALT-DESC;FMTTYPE=text/html:<div ltr="" scxw75982144="" bcx9"=""><p scxw75982144=""><h2 scxw75982144="">Try the new Richardson Flat Park and Ride Bus Route! Join us at our Open House&nbsp;</h2></p></div><div ltr="" scxw75982144="" bcx9"=""><p scxw75982144="">Monday, December 12 | 6:30-8:00 a.m.&nbsp;</p></div><div ltr="" scxw75982144="" bcx9"=""><p scxw75982144="">Join us to celebrate new bus service to the Richardson Flat Park and Ride! We’ll be at the Park and Ride and Park City Heights bus stops with free food, drinks, and fun giveaways.&nbsp;</p></div><br>
LOCATION:Richardson Flat Park and Ride\, 3345 E Richardson Flat Rd Park City\, 
CLASS:PUBLIC
END:VEVENT
END:VCALENDAR
