BEGIN:VCALENDAR
VERSION:2.0
PRODID:Park City, UT Calendar Creator
METHOD:PUBLISH
BEGIN:VEVENT
DTSTAMP:20221207T142110
DTSTART:20221212T170000
DTEND:20221212T190000
SUMMARY:S.R. 224 Bus Rapid Transit Public Open House
DESCRIPTION:<h2>S.R. 224 Bus Rapid Transit Public Open House</h2><p>S.R. 224 Bus Rapid Transit Categorical Exclusion<br><br>The Federal Transit Administration (FTA) and Summit County, in cooperation with project partners High Valley Transit, Park City, and the Utah Department of Transportation (UDOT), prepared a Categorical Exclusion for high-frequency bus rapid transit (BRT) service along S.R. 224 in Summit County, Utah.<br><br>The project will add a dedicated lane in each direction of S.R. 224 exclusively for use by transit vehicles. The project will specifically enable the Electric Xpress/‌10 White route to operate as a true BRT system, providing frequent, fast, and reliable transit service and helping the S.R. 224 roadway to function better for all users.</p><p>Learn more <a href="https://sr224brt.com/" target="_blank">here</a>.</p>
X-ALT-DESC;FMTTYPE=text/html:<h2>S.R. 224 Bus Rapid Transit Public Open House</h2><p>S.R. 224 Bus Rapid Transit Categorical Exclusion<br><br>The Federal Transit Administration (FTA) and Summit County, in cooperation with project partners High Valley Transit, Park City, and the Utah Department of Transportation (UDOT), prepared a Categorical Exclusion for high-frequency bus rapid transit (BRT) service along S.R. 224 in Summit County, Utah.<br><br>The project will add a dedicated lane in each direction of S.R. 224 exclusively for use by transit vehicles. The project will specifically enable the Electric Xpress/‌10 White route to operate as a true BRT system, providing frequent, fast, and reliable transit service and helping the S.R. 224 roadway to function better for all users.</p><p>Learn more <a href="https://sr224brt.com/" target="_blank">here</a>.</p>
LOCATION:Summit County Sheldon Richins Building\, 1885 West Ute Blvd. Park City\, Utah 84060
CLASS:PUBLIC
END:VEVENT
END:VCALENDAR
