BEGIN:VCALENDAR
VERSION:2.0
PRODID:Park City, UT Calendar Creator
METHOD:PUBLISH
BEGIN:VEVENT
DTSTAMP:20230303T164205
DTSTART:20230306T183000
DTEND:20230306T200000
SUMMARY:State of Park City
DESCRIPTION:<p>Please join us for the State of Park City!</p><p>This community gathering will feature a year-in-review by Mayor Nann Worel and a look forward to City goals and initiatives for 2023. Stick around for a pie social following the Mayor's presentation. Can’t make it in person? Join us <a scxw245795084="" bcx9"="" href="https://us02web.zoom.us/j/87265124264" target="_blank" rel="noreferrer noopener">virtually on Zoom</a> or <a scxw245795084="" bcx9"="" href="http://" target="_blank" rel="noreferrer noopener">Facebook Live</a>.</p><p>La traducción simultánea al español estará disponible durante el evento del Estado de Park City.</p>
X-ALT-DESC;FMTTYPE=text/html:<p>Please join us for the State of Park City!</p><p>This community gathering will feature a year-in-review by Mayor Nann Worel and a look forward to City goals and initiatives for 2023. Stick around for a pie social following the Mayor's presentation. Can’t make it in person? Join us <a scxw245795084="" bcx9"="" href="https://us02web.zoom.us/j/87265124264" target="_blank" rel="noreferrer noopener">virtually on Zoom</a> or <a scxw245795084="" bcx9"="" href="http://" target="_blank" rel="noreferrer noopener">Facebook Live</a>.</p><p>La traducción simultánea al español estará disponible durante el evento del Estado de Park City.</p>
LOCATION:Park City Library - Santy Auditorium\, 1255 Park Ave Park City\, UT\, Utah 84060
CLASS:PUBLIC
END:VEVENT
END:VCALENDAR
