BEGIN:VCALENDAR
VERSION:2.0
PRODID:Park City, UT Calendar Creator
METHOD:PUBLISH
BEGIN:VEVENT
DTSTAMP:20160810T163120
DTSTART:20160810T173000
DTEND:20160810T220000
SUMMARY:Planning Commission Meeting
DESCRIPTION:<h2><a href="https://www.parkcity.gov/home/showpublisheddocument/30576/636063594756370000" target="_blank">Exhibit A CHAPT1GeneralProvisions redlines for 8 10 16 final</a></h2><h2>&nbsp;</h2><h2><a href="https://www.parkcity.gov/home/showpublisheddocument/30492/636052278099430000" target="_blank">8.10.16 PC Legal Notice</a></h2><p>&nbsp;</p><h2><a href="https://www.parkcity.gov/home/showpublisheddocument/30566/636060733867630000" target="_blank">8.10.16 PC Agenda</a></h2><p>&nbsp;</p><h2><a href="https://www.parkcity.gov/home/showpublisheddocument/30568/636060734382770000" target="_blank">8.10.16 PC Packet</a></h2><p>&nbsp;</p><p>&nbsp;</p>
X-ALT-DESC;FMTTYPE=text/html:<h2><a href="https://www.parkcity.gov/home/showpublisheddocument/30576/636063594756370000" target="_blank">Exhibit A CHAPT1GeneralProvisions redlines for 8 10 16 final</a></h2><h2>&nbsp;</h2><h2><a href="https://www.parkcity.gov/home/showpublisheddocument/30492/636052278099430000" target="_blank">8.10.16 PC Legal Notice</a></h2><p>&nbsp;</p><h2><a href="https://www.parkcity.gov/home/showpublisheddocument/30566/636060733867630000" target="_blank">8.10.16 PC Agenda</a></h2><p>&nbsp;</p><h2><a href="https://www.parkcity.gov/home/showpublisheddocument/30568/636060734382770000" target="_blank">8.10.16 PC Packet</a></h2><p>&nbsp;</p><p>&nbsp;</p>
LOCATION:Santy Auditorium - Park City Library\, 1255 Park Ave Park City\, Utah 84060
CLASS:PUBLIC
END:VEVENT
END:VCALENDAR
